BEGIN:VCALENDAR
VERSION:2.0
PRODID:-//Squarespace Inc/Squarespace 6//v6//EN
BEGIN:VEVENT
UID:5747917b9f7266759092415b@squarespace.com
DTSTAMP:20160527T001547Z
DTSTART:20160617T000000Z
DTEND:20160617T020000Z
SUMMARY:MUSIC JAMBOREE
END:VEVENT
END:VCALENDAR
