BEGIN:VCALENDAR
VERSION:2.0
PRODID:-//Squarespace Inc/Squarespace 6//v6//EN
BEGIN:VEVENT
UID:574794daf699bbec3bf2fe45@squarespace.com
DTSTAMP:20160527T002952Z
DTSTART:20160611T223000Z
DTEND:20160612T003000Z
SUMMARY:TOBY ROBINSON
END:VEVENT
END:VCALENDAR
