BEGIN:VCALENDAR
VERSION:2.0
PRODID:-//Squarespace Inc/Squarespace 6//v6//EN
BEGIN:VEVENT
UID:574792e09f726675909249d3@squarespace.com
DTSTAMP:20160527T002336Z
DTSTART:20160610T220000Z
DTEND:20160611T010000Z
SUMMARY:BEER O' CLOCK
END:VEVENT
END:VCALENDAR
