BEGIN:VCALENDAR
VERSION:2.0
PRODID:-//Squarespace Inc/Squarespace 6//v6//EN
BEGIN:VEVENT
UID:571a23c27da24ff4cdebb5db@squarespace.com
DTSTAMP:20160422T131614Z
DTSTART:20160507T223000Z
DTEND:20160508T003000Z
SUMMARY:OLIVER DOWNES
END:VEVENT
END:VCALENDAR
