BEGIN:VCALENDAR
VERSION:2.0
PRODID:-//Squarespace Inc/Squarespace 6//v6//EN
BEGIN:VEVENT
UID:571a2207d51cd4ebf04dc1fa@squarespace.com
DTSTAMP:20160422T130831Z
DTSTART:20160506T220000Z
DTEND:20160507T010000Z
SUMMARY:BEER O' CLOCK!
END:VEVENT
END:VCALENDAR
