BEGIN:VCALENDAR
VERSION:2.0
PRODID:-//Squarespace Inc/Squarespace 6//v6//EN
BEGIN:VEVENT
UID:57204afb22482e2e25afa3c9@squarespace.com
DTSTAMP:20160427T051619Z
DTSTART:20160528T223000Z
DTEND:20160529T003000Z
SUMMARY:OLIVER DOWNES
END:VEVENT
END:VCALENDAR
