BEGIN:VCALENDAR
VERSION:2.0
PRODID:-//Squarespace Inc/Squarespace 6//v6//EN
BEGIN:VEVENT
UID:571a23108259b5e9979adf48@squarespace.com
DTSTAMP:20160422T131220Z
DTSTART:20160527T220000Z
DTEND:20160528T010000Z
SUMMARY:BEER O' CLOCK
END:VEVENT
END:VCALENDAR
