BEGIN:VCALENDAR
VERSION:2.0
PRODID:-//Squarespace Inc/Squarespace 6//v6//EN
BEGIN:VEVENT
UID:57204ac24d088efedb823d40@squarespace.com
DTSTAMP:20160427T051529Z
DTSTART:20160521T223000Z
DTEND:20160522T003000Z
SUMMARY:OLIVER DOWNES
END:VEVENT
END:VCALENDAR
