BEGIN:VCALENDAR
VERSION:2.0
PRODID:-//Squarespace Inc/Squarespace 6//v6//EN
BEGIN:VEVENT
UID:571a22c4cf80a18454cc5afd@squarespace.com
DTSTAMP:20160422T131106Z
DTSTART:20160520T220000Z
DTEND:20160521T010000Z
SUMMARY:BEER O' CLOCK
END:VEVENT
END:VCALENDAR
