BEGIN:VCALENDAR
VERSION:2.0
PRODID:-//Squarespace Inc/Squarespace 6//v6//EN
BEGIN:VEVENT
UID:57204a7d2eeb818946e15a79@squarespace.com
DTSTAMP:20160427T051431Z
DTSTART:20160514T223000Z
DTEND:20160515T003000Z
SUMMARY:OLIVER DOWNES 
END:VEVENT
END:VCALENDAR
