BEGIN:VCALENDAR
VERSION:2.0
PRODID:-//Squarespace Inc/Squarespace 6//v6//EN
BEGIN:VEVENT
UID:571a2284d51cd4ebf04dc424@squarespace.com
DTSTAMP:20160422T130953Z
DTSTART:20160513T220000Z
DTEND:20160514T010000Z
SUMMARY:BEER O' CLOCK
END:VEVENT
END:VCALENDAR
