BEGIN:VCALENDAR
VERSION:2.0
PRODID:-//Squarespace Inc/Squarespace 6//v6//EN
BEGIN:VEVENT
UID:5701e1048a65e235846c0b3f@squarespace.com
DTSTAMP:20160404T033748Z
DTSTART:20160409T223000Z
DTEND:20160410T003000Z
SUMMARY:LAURA MACFARLANE
END:VEVENT
END:VCALENDAR
