BEGIN:VCALENDAR
VERSION:2.0
PRODID:-//Squarespace Inc/Squarespace 6//v6//EN
BEGIN:VEVENT
UID:5701e486a3360c0321d95462@squarespace.com
DTSTAMP:20160404T035159Z
DTSTART:20160408T220000Z
DTEND:20160409T010000Z
SUMMARY:BEER O CLOCK DJ!
END:VEVENT
END:VCALENDAR
