BEGIN:VCALENDAR
VERSION:2.0
PRODID:-//Squarespace Inc/Squarespace 6//v6//EN
BEGIN:VEVENT
UID:5701e2932eeb810fd925765f@squarespace.com
DTSTAMP:20160404T034346Z
DTSTART:20160430T223000Z
DTEND:20160501T003000Z
SUMMARY:LAURA MACFARLANE 
END:VEVENT
END:VCALENDAR
