BEGIN:VCALENDAR
VERSION:2.0
PRODID:-//Squarespace Inc/Squarespace 6//v6//EN
BEGIN:VEVENT
UID:5701e62462cd94d3a2b2e750@squarespace.com
DTSTAMP:20160404T035807Z
DTSTART:20160429T220000Z
DTEND:20160430T010000Z
SUMMARY:BEER O CLOCK DJ!
END:VEVENT
END:VCALENDAR
