BEGIN:VCALENDAR
VERSION:2.0
PRODID:-//Squarespace Inc/Squarespace 6//v6//EN
BEGIN:VEVENT
UID:5701e2554c2f85f4f9bd865a@squarespace.com
DTSTAMP:20160404T034202Z
DTSTART:20160423T223000Z
DTEND:20160424T003000Z
SUMMARY:LAURA MACFARLANE
END:VEVENT
END:VCALENDAR
