BEGIN:VCALENDAR
VERSION:2.0
PRODID:-//Squarespace Inc/Squarespace 6//v6//EN
BEGIN:VEVENT
UID:5701e5ead210b8e9fd098cee@squarespace.com
DTSTAMP:20160404T035715Z
DTSTART:20160422T220000Z
DTEND:20160423T010000Z
SUMMARY:BEER O CLOCK DJ!
END:VEVENT
END:VCALENDAR
