BEGIN:VCALENDAR
VERSION:2.0
PRODID:-//Squarespace Inc/Squarespace 6//v6//EN
BEGIN:VEVENT
UID:5701e20637013bada7375fcf@squarespace.com
DTSTAMP:20160404T034057Z
DTSTART:20160416T223000Z
DTEND:20160417T003000Z
SUMMARY:LAURA MACFARLANE
END:VEVENT
END:VCALENDAR
