BEGIN:VCALENDAR
VERSION:2.0
PRODID:-//Squarespace Inc/Squarespace 6//v6//EN
BEGIN:VEVENT
UID:5701e4e8a3360c0321d956a7@squarespace.com
DTSTAMP:20160404T035240Z
DTSTART:20160415T220000Z
DTEND:20160416T010000Z
SUMMARY:BEER O CLOCK DJ!
END:VEVENT
END:VCALENDAR
