BEGIN:VCALENDAR
VERSION:2.0
PRODID:-//Squarespace Inc/Squarespace 6//v6//EN
BEGIN:VEVENT
UID:56cd09be8a65e22dca6d5638@squarespace.com
DTSTAMP:20160224T014028Z
DTSTART:20160305T233000Z
DTEND:20160306T013000Z
SUMMARY:TK REEVE
END:VEVENT
END:VCALENDAR
