BEGIN:VCALENDAR
VERSION:2.0
PRODID:-//Squarespace Inc/Squarespace 6//v6//EN
BEGIN:VEVENT
UID:56cd084c27d4bddd6eb692c9@squarespace.com
DTSTAMP:20160224T013535Z
DTSTART:20160304T230000Z
DTEND:20160305T020000Z
SUMMARY:BEER O'CLOCK DJ!
END:VEVENT
END:VCALENDAR
