BEGIN:VCALENDAR
VERSION:2.0
PRODID:-//Squarespace Inc/Squarespace 6//v6//EN
BEGIN:VEVENT
UID:56cd080127d4bddd6eb69079@squarespace.com
DTSTAMP:20160224T013229Z
DTSTART:20160331T223000Z
DTEND:20160401T003000Z
SUMMARY:FAT COUSIN SKINNY
END:VEVENT
END:VCALENDAR
