BEGIN:VCALENDAR
VERSION:2.0
PRODID:-//Squarespace Inc/Squarespace 6//v6//EN
BEGIN:VEVENT
UID:56cd063137013b82d240bebe@squarespace.com
DTSTAMP:20160224T012517Z
DTSTART:20160303T233000Z
DTEND:20160304T013000Z
SUMMARY:FAT COUSIN SKINNY
END:VEVENT
END:VCALENDAR
