BEGIN:VCALENDAR
VERSION:2.0
PRODID:-//Squarespace Inc/Squarespace 6//v6//EN
BEGIN:VEVENT
UID:56cd0a8d859fd01fdfdd6615@squarespace.com
DTSTAMP:20160224T014653Z
DTSTART:20160326T223000Z
DTEND:20160327T003000Z
SUMMARY:TK REEVE
END:VEVENT
END:VCALENDAR
