BEGIN:VCALENDAR
VERSION:2.0
PRODID:-//Squarespace Inc/Squarespace 6//v6//EN
BEGIN:VEVENT
UID:56cd09808a65e22dca6d5451@squarespace.com
DTSTAMP:20160224T013833Z
DTSTART:20160325T220000Z
DTEND:20160326T010000Z
SUMMARY:BEER O'CLOCK DJ!
END:VEVENT
END:VCALENDAR
