BEGIN:VCALENDAR
VERSION:2.0
PRODID:-//Squarespace Inc/Squarespace 6//v6//EN
BEGIN:VEVENT
UID:56cd0778c6fc08356fa020a0@squarespace.com
DTSTAMP:20160224T013132Z
DTSTART:20160324T223000Z
DTEND:20160325T003000Z
SUMMARY:FAT COUSIN SKINNY
END:VEVENT
END:VCALENDAR
