BEGIN:VCALENDAR
VERSION:2.0
PRODID:-//Squarespace Inc/Squarespace 6//v6//EN
BEGIN:VEVENT
UID:56cd0a9d86db43bd3f1d2268@squarespace.com
DTSTAMP:20160224T014547Z
DTSTART:20160319T223000Z
DTEND:20160320T003000Z
SUMMARY:TK REEVE
END:VEVENT
END:VCALENDAR
