BEGIN:VCALENDAR
VERSION:2.0
PRODID:-//Squarespace Inc/Squarespace 6//v6//EN
BEGIN:VEVENT
UID:56cd094f2b8ddecb150c125e@squarespace.com
DTSTAMP:20160224T013753Z
DTSTART:20160318T220000Z
DTEND:20160319T010000Z
SUMMARY:BEER O'CLOCK DJ!
END:VEVENT
END:VCALENDAR
