BEGIN:VCALENDAR
VERSION:2.0
PRODID:-//Squarespace Inc/Squarespace 6//v6//EN
BEGIN:VEVENT
UID:56cd0bc0c2ea5165a6f9ea1d@squarespace.com
DTSTAMP:20160224T014843Z
DTSTART:20160317T223000Z
DTEND:20160318T003000Z
SUMMARY:ASH & ANDY
END:VEVENT
END:VCALENDAR
