BEGIN:VCALENDAR
VERSION:2.0
PRODID:-//Squarespace Inc/Squarespace 6//v6//EN
BEGIN:VEVENT
UID:56cd0a1cb6aa60201f91d03e@squarespace.com
DTSTAMP:20160224T014210Z
DTSTART:20160312T233000Z
DTEND:20160313T013000Z
SUMMARY:TK REEVE
END:VEVENT
END:VCALENDAR
