BEGIN:VCALENDAR
VERSION:2.0
PRODID:-//Squarespace Inc/Squarespace 6//v6//EN
BEGIN:VEVENT
UID:56cd090c2b8ddecb150c1096@squarespace.com
DTSTAMP:20160224T013644Z
DTSTART:20160311T230000Z
DTEND:20160312T020000Z
SUMMARY:BEER O'CLOCK DJ!
END:VEVENT
END:VCALENDAR
