BEGIN:VCALENDAR
VERSION:2.0
PRODID:-//Squarespace Inc/Squarespace 6//v6//EN
BEGIN:VEVENT
UID:56ca6b6b40261dffb29905ea@squarespace.com
DTSTAMP:20160222T015947Z
DTSTART:20160227T233000Z
DTEND:20160228T013000Z
SUMMARY:ANNA CORDELL
END:VEVENT
END:VCALENDAR
