BEGIN:VCALENDAR
VERSION:2.0
PRODID:-//Squarespace Inc/Squarespace 6//v6//EN
BEGIN:VEVENT
UID:56ca6a91b6aa60809ab375cd@squarespace.com
DTSTAMP:20160222T015652Z
DTSTART:20160225T233000Z
DTEND:20160226T013000Z
SUMMARY:ALISON FERRIER
END:VEVENT
END:VCALENDAR
