BEGIN:VCALENDAR
VERSION:2.0
PRODID:-//Squarespace Inc/Squarespace 6//v6//EN
BEGIN:VEVENT
UID:582548cc2e69cfe4fd0d709a@squarespace.com
DTSTAMP:20161111T042900Z
DTSTART:20161208T233000Z
DTEND:20161209T013000Z
SUMMARY:MITCH POWER
END:VEVENT
END:VCALENDAR
