BEGIN:VCALENDAR
VERSION:2.0
PRODID:-//Squarespace Inc/Squarespace 6//v6//EN
BEGIN:VEVENT
UID:5825567ab8a79b97633f22d8@squarespace.com
DTSTAMP:20161111T052905Z
DTSTART:20161203T233000Z
DTEND:20161204T013000Z
SUMMARY:ALEXIS NICOLE
END:VEVENT
END:VCALENDAR
