BEGIN:VCALENDAR
VERSION:2.0
PRODID:-//Squarespace Inc/Squarespace 6//v6//EN
BEGIN:VEVENT
UID:5825577ce4fcb5d483d3e6d1@squarespace.com
DTSTAMP:20161111T053311Z
DTSTART:20161217T233000Z
DTEND:20161218T013000Z
SUMMARY:ALEXIS NICOLE
END:VEVENT
END:VCALENDAR
