BEGIN:VCALENDAR
VERSION:2.0
PRODID:-//Squarespace Inc/Squarespace 6//v6//EN
BEGIN:VEVENT
UID:582549414402433fe5cf1625@squarespace.com
DTSTAMP:20161111T043023Z
DTSTART:20161215T233000Z
DTEND:20161216T013000Z
SUMMARY:MITCH POWER
END:VEVENT
END:VCALENDAR
