BEGIN:VCALENDAR
VERSION:2.0
PRODID:-//Squarespace Inc/Squarespace 6//v6//EN
BEGIN:VEVENT
UID:58255731e4fcb5d483d3e4b7@squarespace.com
DTSTAMP:20161111T053023Z
DTSTART:20161210T233000Z
DTEND:20161211T013000Z
SUMMARY:ALEXIS NICOLE
END:VEVENT
END:VCALENDAR
