BEGIN:VCALENDAR
VERSION:2.0
PRODID:-//Squarespace Inc/Squarespace 6//v6//EN
BEGIN:VEVENT
UID:58253f118419c21d80119bf2@squarespace.com
DTSTAMP:20161111T042920Z
DTSTART:20161201T233000Z
DTEND:20161202T013000Z
SUMMARY:MITCH POWER
END:VEVENT
END:VCALENDAR
