BEGIN:VCALENDAR
VERSION:2.0
PRODID:-//Squarespace Inc/Squarespace 6//v6//EN
BEGIN:VEVENT
UID:580ee87be4fcb54017eb4aac@squarespace.com
DTSTAMP:20161025T051051Z
DTSTART:20161105T223000Z
DTEND:20161106T003000Z
SUMMARY:NEEKO
END:VEVENT
END:VCALENDAR
