BEGIN:VCALENDAR
VERSION:2.0
PRODID:-//Squarespace Inc/Squarespace 6//v6//EN
BEGIN:VEVENT
UID:580ecc58b8a79b1ed43079af@squarespace.com
DTSTAMP:20161025T030827Z
DTSTART:20161104T213000Z
DTEND:20161105T003000Z
SUMMARY:PUB BINGO w TREV & SPARX!
END:VEVENT
END:VCALENDAR
