BEGIN:VCALENDAR
VERSION:2.0
PRODID:-//Squarespace Inc/Squarespace 6//v6//EN
BEGIN:VEVENT
UID:580ec6cac534a5c144fb7e7e@squarespace.com
DTSTAMP:20161025T024428Z
DTSTART:20161104T220000Z
DTEND:20161105T010000Z
SUMMARY:BEER 'O CLOCK
END:VEVENT
END:VCALENDAR
