BEGIN:VCALENDAR
VERSION:2.0
PRODID:-//Squarespace Inc/Squarespace 6//v6//EN
BEGIN:VEVENT
UID:580ec41ce58c62cb75f92ca2@squarespace.com
DTSTAMP:20161025T023605Z
DTSTART:20161103T223000Z
DTEND:20161104T003000Z
SUMMARY:PUGSLEY BUZZARD DUO w ADAM DUFFY
END:VEVENT
END:VCALENDAR
