BEGIN:VCALENDAR
VERSION:2.0
PRODID:-//Squarespace Inc/Squarespace 6//v6//EN
BEGIN:VEVENT
UID:5812c3bd2994cac6606126ab@squarespace.com
DTSTAMP:20161111T052846Z
DTSTART:20161126T233000Z
DTEND:20161127T013000Z
SUMMARY:ALEXIS NICOLE
END:VEVENT
END:VCALENDAR
