BEGIN:VCALENDAR
VERSION:2.0
PRODID:-//Squarespace Inc/Squarespace 6//v6//EN
BEGIN:VEVENT
UID:580ec666e58c62cb75f944a4@squarespace.com
DTSTAMP:20161025T024308Z
DTSTART:20161124T233000Z
DTEND:20161125T013000Z
SUMMARY:PUGSLEY BUZZARD DUO w ADAM DUFFY
END:VEVENT
END:VCALENDAR
