BEGIN:VCALENDAR
VERSION:2.0
PRODID:-//Squarespace Inc/Squarespace 6//v6//EN
BEGIN:VEVENT
UID:580eeadc9de4bb7cf1718a9b@squarespace.com
DTSTAMP:20161025T051816Z
DTSTART:20161119T233000Z
DTEND:20161120T013000Z
SUMMARY:NEEKO
END:VEVENT
END:VCALENDAR
