BEGIN:VCALENDAR
VERSION:2.0
PRODID:-//Squarespace Inc/Squarespace 6//v6//EN
BEGIN:VEVENT
UID:580ec626f5e231fb34f8b9e1@squarespace.com
DTSTAMP:20161025T024129Z
DTSTART:20161117T233000Z
DTEND:20161118T013000Z
SUMMARY:PUGSLEY BUZZARD w ADAM DUFFY
END:VEVENT
END:VCALENDAR
