BEGIN:VCALENDAR
VERSION:2.0
PRODID:-//Squarespace Inc/Squarespace 6//v6//EN
BEGIN:VEVENT
UID:580eeaa79de4bb7cf17188f5@squarespace.com
DTSTAMP:20161025T051703Z
DTSTART:20161112T233000Z
DTEND:20161113T013000Z
SUMMARY:NEEKO
END:VEVENT
END:VCALENDAR
