BEGIN:VCALENDAR
VERSION:2.0
PRODID:-//Squarespace Inc/Squarespace 6//v6//EN
BEGIN:VEVENT
UID:580ec581bebafbd2faa9b266@squarespace.com
DTSTAMP:20161025T023855Z
DTSTART:20161110T233000Z
DTEND:20161111T013000Z
SUMMARY:PUGSLEY BUZZARD DUO w ADAM DUFFY
END:VEVENT
END:VCALENDAR
