BEGIN:VCALENDAR
VERSION:2.0
PRODID:-//Squarespace Inc/Squarespace 6//v6//EN
BEGIN:VEVENT
UID:580ec334ebbd1a629b944bf6@squarespace.com
DTSTAMP:20161025T022844Z
DTSTART:20161101T190000Z
DTEND:20161102T040000Z
SUMMARY:CUP DAY - WE ARE CLOSED
END:VEVENT
END:VCALENDAR
